
BEGIN:VCALENDAR
METHOD:PUBLISH
VERSION:2.0
PRODID:-//Events//NONSGML Events //EN
BEGIN:VEVENT
SUMMARY:Timeless Visions Show &#038; Sale: Opening Reception
UID:3097
STATUS:CONFIRMED
DTSTART:20250509T000000Z
DTEND:20250509T030000Z
LAST-MODIFIED:20120509T031500Z
LOCATION:Art Gallery
END:VEVENT
END:VCALENDAR